BEGIN:VCALENDAR
VERSION:2.0
PRODID:-//Biblioteca Centrală Universitară „Eugen Todoran” din Timișoara - ECPv6.15.20//NONSGML v1.0//EN
CALSCALE:GREGORIAN
METHOD:PUBLISH
X-WR-CALNAME:Biblioteca Centrală Universitară „Eugen Todoran” din Timișoara
X-ORIGINAL-URL:https://bcut.ro
X-WR-CALDESC:Evenimente pentru Biblioteca Centrală Universitară „Eugen Todoran” din Timișoara
REFRESH-INTERVAL;VALUE=DURATION:PT1H
X-Robots-Tag:noindex
X-PUBLISHED-TTL:PT1H
BEGIN:VTIMEZONE
TZID:Europe/Moscow
BEGIN:STANDARD
TZOFFSETFROM:+0300
TZOFFSETTO:+0300
TZNAME:MSK
DTSTART:20230101T000000
END:STANDARD
END:VTIMEZONE
BEGIN:VEVENT
DTSTART;TZID=Europe/Moscow:20240508T140000
DTEND;TZID=Europe/Moscow:20240508T160000
DTSTAMP:20260423T121319
CREATED:20240430T173254Z
LAST-MODIFIED:20240430T174518Z
UID:7452-1715176800-1715184000@bcut.ro
SUMMARY:UNDE SE TERMINĂ GOOGLE\, ÎNCEPE ARCANUMWHERE GOOGLE ENDS\, ARCANUM BEGINSPrezintă: Sándor BISZAK
DESCRIPTION:Moderatori: dr. Adrian Cîntar și dr. Sorin Forțiu \n 
URL:https://bcut.ro/event/unde-se-termina-google-incepe-arcanumwhere-google-ends-arcanum-beginsprezinta-sandor-biszak/
LOCATION:Biblioteca Centrală Universitară „Eugen Todoran” din Timişoara\, Bd. Vasile Pârvan\, nr. 4A\, Timișoara\, Timiș\, 300223\, România
CATEGORIES:Evenimente BCUT Mai 2024
ORGANIZER;CN="Biblioteca Central%C4%83 Universitar%C4%83 %E2%80%9EEugen Todoran%E2%80%9D din Timi%C8%99oara":MAILTO:contact [at] bcut.ro
END:VEVENT
BEGIN:VEVENT
DTSTART;TZID=Europe/Moscow:20240509T120000
DTEND;TZID=Europe/Moscow:20240509T130000
DTSTAMP:20260423T121319
CREATED:20240430T170449Z
LAST-MODIFIED:20240430T172656Z
UID:7441-1715256000-1715259600@bcut.ro
SUMMARY:MUZICA DE LA ORA 12Concertul absolvenților
DESCRIPTION:Susținut de studenții clasei conf. univ. dr. Mariana Șarba \n 
URL:https://bcut.ro/event/muzica-de-la-ora-12concertul-absolventilor/
LOCATION:Biblioteca Centrală Universitară „Eugen Todoran” din Timişoara\, Bd. Vasile Pârvan\, nr. 4A\, Timișoara\, Timiș\, 300223\, România
CATEGORIES:Evenimente BCUT Mai 2024
ORGANIZER;CN="Biblioteca Central%C4%83 Universitar%C4%83 %E2%80%9EEugen Todoran%E2%80%9D din Timi%C8%99oara":MAILTO:contact [at] bcut.ro
END:VEVENT
BEGIN:VEVENT
DTSTART;TZID=Europe/Moscow:20240514T120000
DTEND;TZID=Europe/Moscow:20240514T130000
DTSTAMP:20260423T121319
CREATED:20240511T085009Z
LAST-MODIFIED:20240511T090008Z
UID:7503-1715688000-1715691600@bcut.ro
SUMMARY:MUZICA DE LA ORA 12Recital vocal
DESCRIPTION:Susținut de studenți și cadre didactice de la Facultatea de Muzică și Teatru
URL:https://bcut.ro/event/muzica-de-la-ora-12recital-vocal-3/
LOCATION:Biblioteca Centrală Universitară „Eugen Todoran” din Timişoara\, Bd. Vasile Pârvan\, nr. 4A\, Timișoara\, Timiș\, 300223\, România
CATEGORIES:Evenimente BCUT Mai 2024
END:VEVENT
BEGIN:VEVENT
DTSTART;TZID=Europe/Moscow:20240514T170000
DTEND;TZID=Europe/Moscow:20240514T180000
DTSTAMP:20260423T121319
CREATED:20240501T060811Z
LAST-MODIFIED:20240511T090450Z
UID:7465-1715706000-1715709600@bcut.ro
SUMMARY:CARTEA DE MARȚITeritorialitate\, neoliberalism și conflicte sociale privind posibila exploatare a resurselor naturale ale subsolului din România. Studiu de caz: exploatarea aurului de la Roșia Montanǎ
DESCRIPTION:Invitați: Prof. univ. dr. Remus Crețan și dr. Nicoleta Toader Rișteiu \nModerator: Marilena Tudor
URL:https://bcut.ro/event/cartea-de-martiteritorialitate-neoliberalism-si-conflicte-sociale-privind-posibila-exploatare-a-resurselor-naturale-ale-subsolului-din-romania-studiu-de-caz-exploatarea-aurului-de-la-rosia-montana/
LOCATION:Biblioteca Centrală Universitară „Eugen Todoran” din Timişoara\, Bd. Vasile Pârvan\, nr. 4A\, Timișoara\, Timiș\, 300223\, România
CATEGORIES:Evenimente BCUT Mai 2024
ORGANIZER;CN="Biblioteca Central%C4%83 Universitar%C4%83 %E2%80%9EEugen Todoran%E2%80%9D din Timi%C8%99oara":MAILTO:contact [at] bcut.ro
END:VEVENT
BEGIN:VEVENT
DTSTART;TZID=Europe/Moscow:20240515T120000
DTEND;TZID=Europe/Moscow:20240515T130000
DTSTAMP:20260423T121319
CREATED:20240501T061015Z
LAST-MODIFIED:20240501T061015Z
UID:7467-1715774400-1715778000@bcut.ro
SUMMARY:MUZICA DE LA ORA 12Recital vocal
DESCRIPTION:Susținut de studenți și cadre didactice de la Facultatea de Muzică și Teatru
URL:https://bcut.ro/event/muzica-de-la-ora-12recital-vocal-2/
LOCATION:Biblioteca Centrală Universitară „Eugen Todoran” din Timişoara\, Bd. Vasile Pârvan\, nr. 4A\, Timișoara\, Timiș\, 300223\, România
CATEGORIES:Evenimente BCUT Mai 2024
ORGANIZER;CN="Biblioteca Central%C4%83 Universitar%C4%83 %E2%80%9EEugen Todoran%E2%80%9D din Timi%C8%99oara":MAILTO:contact [at] bcut.ro
END:VEVENT
BEGIN:VEVENT
DTSTART;TZID=Europe/Moscow:20240515T150000
DTEND;TZID=Europe/Moscow:20240515T160000
DTSTAMP:20260423T121319
CREATED:20240501T061125Z
LAST-MODIFIED:20240511T091653Z
UID:7469-1715785200-1715788800@bcut.ro
SUMMARY:INAUGURAREA EXPOZIȚIEI \,\,B.C.U.T. 80"
DESCRIPTION:
URL:https://bcut.ro/event/inaugararea-expozitiei-b-c-u-t-80/
LOCATION:Biblioteca Centrală Universitară „Eugen Todoran” din Timişoara\, Bd. Vasile Pârvan\, nr. 4A\, Timișoara\, Timiș\, 300223\, România
CATEGORIES:Evenimente BCUT Mai 2024
ORGANIZER;CN="Biblioteca Central%C4%83 Universitar%C4%83 %E2%80%9EEugen Todoran%E2%80%9D din Timi%C8%99oara":MAILTO:contact [at] bcut.ro
END:VEVENT
BEGIN:VEVENT
DTSTART;TZID=Europe/Moscow:20240520T160000
DTEND;TZID=Europe/Moscow:20240520T170000
DTSTAMP:20260423T121319
CREATED:20240501T061435Z
LAST-MODIFIED:20240516T071144Z
UID:7472-1716220800-1716224400@bcut.ro
SUMMARY:SAMOVARUL LITERARPrezentarea cărților:Anagapesis\, de Maria Denisa TileaUn vis al nimănui\, de Florica Blidariu
DESCRIPTION:Moderator: dr. Daniel Luca
URL:https://bcut.ro/event/samovarul-literarprezentarea-cartiloranagapesis-de-maria-denisa-tileaun-vis-al-nimanui-de-florica-blidariu/
LOCATION:Biblioteca Centrală Universitară „Eugen Todoran” din Timişoara\, Bd. Vasile Pârvan\, nr. 4A\, Timișoara\, Timiș\, 300223\, România
CATEGORIES:Evenimente BCUT Mai 2024
ORGANIZER;CN="Biblioteca Central%C4%83 Universitar%C4%83 %E2%80%9EEugen Todoran%E2%80%9D din Timi%C8%99oara":MAILTO:contact [at] bcut.ro
END:VEVENT
BEGIN:VEVENT
DTSTART;TZID=Europe/Moscow:20240523T120000
DTEND;TZID=Europe/Moscow:20240523T130000
DTSTAMP:20260423T121319
CREATED:20240501T061607Z
LAST-MODIFIED:20240521T075422Z
UID:7474-1716465600-1716469200@bcut.ro
SUMMARY:JOIA MUZICALĂRecital instrumental
DESCRIPTION:Susținut de studenți și cadre didactice de la Facultatea de Muzică și Teatru \n 
URL:https://bcut.ro/event/joia-muzicalarecital-instrumental-5/
LOCATION:Biblioteca Centrală Universitară „Eugen Todoran” din Timişoara\, Bd. Vasile Pârvan\, nr. 4A\, Timișoara\, Timiș\, 300223\, România
CATEGORIES:Evenimente BCUT Mai 2024
ORGANIZER;CN="Biblioteca Central%C4%83 Universitar%C4%83 %E2%80%9EEugen Todoran%E2%80%9D din Timi%C8%99oara":MAILTO:contact [at] bcut.ro
END:VEVENT
BEGIN:VEVENT
DTSTART;TZID=Europe/Moscow:20240523T140000
DTEND;TZID=Europe/Moscow:20240523T150000
DTSTAMP:20260423T121319
CREATED:20240501T061741Z
LAST-MODIFIED:20240521T125637Z
UID:7477-1716472800-1716476400@bcut.ro
SUMMARY:WORKSHOP(Sala de seminar)Conceptele de autograf manuscris și dedicație
DESCRIPTION:Prezintă: dr. Mochnacs Thomas Remus
URL:https://bcut.ro/event/workshopsala-de-seminarconceptele-de-autograf-manuscris-si-dedicatie/
LOCATION:Biblioteca Centrală Universitară „Eugen Todoran” din Timişoara\, Bd. Vasile Pârvan\, nr. 4A\, Timișoara\, Timiș\, 300223\, România
CATEGORIES:Evenimente BCUT Mai 2024
ORGANIZER;CN="Biblioteca Central%C4%83 Universitar%C4%83 %E2%80%9EEugen Todoran%E2%80%9D din Timi%C8%99oara":MAILTO:contact [at] bcut.ro
END:VEVENT
BEGIN:VEVENT
DTSTART;TZID=Europe/Moscow:20240528T180000
DTEND;TZID=Europe/Moscow:20240528T200000
DTSTAMP:20260423T121319
CREATED:20240501T061936Z
LAST-MODIFIED:20240523T142028Z
UID:7480-1716919200-1716926400@bcut.ro
SUMMARY:COMUNICĂRILE ȘTIINȚIFICE ALE CENTRULUI DE CERCETĂRI BIO-BIBLIOGRAFICE AL BIBLIOTECII ȘI CENTRULUI DE STUDII BIOGRAFICE AVANSATE AL UNIVERSITĂȚII DE VEST DIN TIMIȘOARACarol la WeinburgReședința din Elveția și rolul ei în biografia Regelui Carol I al RomânieiPrezintă: Prof. univ. dr. Vasile DoceaArhitect în comunism: Gheorghe Gîrleanu și amprenta sa asupra orașului TimișoaraPrezintă: drd. Adrian Tiberiu Racoveanu
DESCRIPTION:
URL:https://bcut.ro/event/comunicarile-stiintifice-ale-centrului-de-cercetari-bio-bibliografice-al-bibliotecii-si-centrului-de-studii-biografice-avansate-al-universitatii-de-vest-din-timisoaracarol-la-weinburgresedinta-din-elv/
LOCATION:Biblioteca Centrală Universitară „Eugen Todoran” din Timişoara\, Bd. Vasile Pârvan\, nr. 4A\, Timișoara\, Timiș\, 300223\, România
CATEGORIES:Evenimente BCUT Mai 2024
ORGANIZER;CN="Biblioteca Central%C4%83 Universitar%C4%83 %E2%80%9EEugen Todoran%E2%80%9D din Timi%C8%99oara":MAILTO:contact [at] bcut.ro
END:VEVENT
BEGIN:VEVENT
DTSTART;TZID=Europe/Moscow:20240530T120000
DTEND;TZID=Europe/Moscow:20240530T130000
DTSTAMP:20260423T121319
CREATED:20240501T062112Z
LAST-MODIFIED:20240528T073732Z
UID:7483-1717070400-1717074000@bcut.ro
SUMMARY:JOIA MUZICALĂRecital instrumental
DESCRIPTION:Susținut de studenți și cadre didactice de la Facultatea de Muzică și Teatru
URL:https://bcut.ro/event/joia-muzicalarecital-instrumental-6/
LOCATION:Biblioteca Centrală Universitară „Eugen Todoran” din Timişoara\, Bd. Vasile Pârvan\, nr. 4A\, Timișoara\, Timiș\, 300223\, România
CATEGORIES:Evenimente BCUT Mai 2024
ORGANIZER;CN="Biblioteca Central%C4%83 Universitar%C4%83 %E2%80%9EEugen Todoran%E2%80%9D din Timi%C8%99oara":MAILTO:contact [at] bcut.ro
END:VEVENT
END:VCALENDAR