BEGIN:VCALENDAR
VERSION:2.0
PRODID:-//Biblioteca Centrală Universitară „Eugen Todoran” din Timișoara - ECPv6.15.20//NONSGML v1.0//EN
CALSCALE:GREGORIAN
METHOD:PUBLISH
X-ORIGINAL-URL:https://bcut.ro
X-WR-CALDESC:Evenimente pentru Biblioteca Centrală Universitară „Eugen Todoran” din Timișoara
REFRESH-INTERVAL;VALUE=DURATION:PT1H
X-Robots-Tag:noindex
X-PUBLISHED-TTL:PT1H
BEGIN:VTIMEZONE
TZID:Europe/Moscow
BEGIN:STANDARD
TZOFFSETFROM:+0300
TZOFFSETTO:+0300
TZNAME:MSK
DTSTART:20230101T000000
END:STANDARD
END:VTIMEZONE
BEGIN:VEVENT
DTSTART;TZID=Europe/Moscow:20240307T120000
DTEND;TZID=Europe/Moscow:20240307T130000
DTSTAMP:20260426T014151
CREATED:20240228T071725Z
LAST-MODIFIED:20240304T112546Z
UID:7058-1709812800-1709816400@bcut.ro
SUMMARY:JOIA MUZICALĂRecital vocal
DESCRIPTION:Susținut de studenți și cadre didactice de la Facultatea de Muzică și Teatru
URL:https://bcut.ro/event/joia-muzicalarecital/
LOCATION:Biblioteca Centrală Universitară „Eugen Todoran” din Timişoara\, Bd. Vasile Pârvan\, nr. 4A\, Timișoara\, Timiș\, 300223\, România
CATEGORIES:Evenimente BCUT Martie 2024
ORGANIZER;CN="Biblioteca Central%C4%83 Universitar%C4%83 %E2%80%9EEugen Todoran%E2%80%9D din Timi%C8%99oara":MAILTO:contact [at] bcut.ro
END:VEVENT
BEGIN:VEVENT
DTSTART;TZID=Europe/Moscow:20240308T140000
DTEND;TZID=Europe/Moscow:20240308T150000
DTSTAMP:20260426T014151
CREATED:20240229T161712Z
LAST-MODIFIED:20240304T112441Z
UID:7068-1709906400-1709910000@bcut.ro
SUMMARY:SAMOVARUL LITERARPrezentarea cărților:Camelia Monica Cornea\, ”Buza hoinară a morții”Mirela Cocheci\, ”Sofisme surdomute”
DESCRIPTION:Moderator: Daniel Luca \n 
URL:https://bcut.ro/event/samovarul-literarprezentarea-cartilorcamelia-monica-cornea-buza-hoinara-a-mortiimirela-cocheci-sofisme-surdomute/
LOCATION:Biblioteca Centrală Universitară „Eugen Todoran” din Timişoara\, Bd. Vasile Pârvan\, nr. 4A\, Timișoara\, Timiș\, 300223\, România
CATEGORIES:Evenimente BCUT Martie 2024
ORGANIZER;CN="Biblioteca Central%C4%83 Universitar%C4%83 %E2%80%9EEugen Todoran%E2%80%9D din Timi%C8%99oara":MAILTO:contact [at] bcut.ro
END:VEVENT
BEGIN:VEVENT
DTSTART;TZID=Europe/Moscow:20240312T170000
DTEND;TZID=Europe/Moscow:20240312T180000
DTSTAMP:20260426T014151
CREATED:20240229T161936Z
LAST-MODIFIED:20240313T105558Z
UID:7070-1710262800-1710266400@bcut.ro
SUMMARY:CARTEA DE MARȚIIoan TalpoșFiscalitatea teoretică și aplicată Ediția a doua
DESCRIPTION:Invitați: Prof. univ. dr. Cosmin Enache și Dr. ec. Doru Petru Dudaș \nModerator: Marilena Tudor
URL:https://bcut.ro/event/cartea-de-martifiscalitatea-teoretica-si-aplicata-editia-a-doua/
LOCATION:Biblioteca Centrală Universitară „Eugen Todoran” din Timişoara\, Bd. Vasile Pârvan\, nr. 4A\, Timișoara\, Timiș\, 300223\, România
CATEGORIES:Evenimente BCUT Martie 2024
ORGANIZER;CN="Biblioteca Central%C4%83 Universitar%C4%83 %E2%80%9EEugen Todoran%E2%80%9D din Timi%C8%99oara":MAILTO:contact [at] bcut.ro
END:VEVENT
BEGIN:VEVENT
DTSTART;TZID=Europe/Moscow:20240321T120000
DTEND;TZID=Europe/Moscow:20240321T130000
DTSTAMP:20260426T014151
CREATED:20240229T162157Z
LAST-MODIFIED:20240318T115300Z
UID:7074-1711022400-1711026000@bcut.ro
SUMMARY:JOIA MUZICALĂRecital instrumental
DESCRIPTION:Susținut de studenți și cadre didactice de la Facultatea de Muzică și Teatru
URL:https://bcut.ro/event/joia-muzicalarecital-instrumental-4/
LOCATION:Biblioteca Centrală Universitară „Eugen Todoran” din Timişoara\, Bd. Vasile Pârvan\, nr. 4A\, Timișoara\, Timiș\, 300223\, România
CATEGORIES:Evenimente BCUT Martie 2024
ORGANIZER;CN="Biblioteca Central%C4%83 Universitar%C4%83 %E2%80%9EEugen Todoran%E2%80%9D din Timi%C8%99oara":MAILTO:contact [at] bcut.ro
END:VEVENT
BEGIN:VEVENT
DTSTART;TZID=Europe/Moscow:20240326T180000
DTEND;TZID=Europe/Moscow:20240326T190000
DTSTAMP:20260426T014151
CREATED:20240229T162632Z
LAST-MODIFIED:20240406T035832Z
UID:7076-1711476000-1711479600@bcut.ro
SUMMARY:COMUNICĂRILE ȘTIINȚIFICE ALE CENTRULUI DE CERCETĂRI BIO-BIBLIOGRAFICE AL BIBLIOTECII ȘI CENTRULUI DE STUDII BIOGRAFICE AVANSATE AL UVT‣ Reconstruirea deportatiinbaragan.ro‣ Preotul profesor Teodor Botiș (1873-1940). O biografie
DESCRIPTION:‣ Reconstruirea deportatiinbaragan.ro\nPrezintă: lect. univ. dr. Adrian Cîntar\nFacultatea de Litere\, Istorie și Teologie\, Universitatea de Vest din Timișoara\nBiblioteca Centrală Universitară „Eugen Todoran” din Timișoara \n‣ Preotul profesor Teodor Botiș (1873-1940). O biografie\nPrezintă: Maria Alexandra Pantea \n 
URL:https://bcut.ro/event/comunicarile-stiintifice-ale-centrului-de-cercetari-bio-bibliografice-al-bibliotecii-si-centrului-de-studii-biografice-avansate-al-uvtreconstruirea-deportatiinbaragan-roprezinta-adrian-cintarpreotul/
LOCATION:Biblioteca Centrală Universitară „Eugen Todoran” din Timişoara\, Bd. Vasile Pârvan\, nr. 4A\, Timișoara\, Timiș\, 300223\, România
CATEGORIES:Evenimente BCUT Martie 2024
ORGANIZER;CN="Biblioteca Central%C4%83 Universitar%C4%83 %E2%80%9EEugen Todoran%E2%80%9D din Timi%C8%99oara":MAILTO:contact [at] bcut.ro
END:VEVENT
BEGIN:VEVENT
DTSTART;TZID=Europe/Moscow:20240327T120000
DTEND;TZID=Europe/Moscow:20240327T130000
DTSTAMP:20260426T014151
CREATED:20240308T042504Z
LAST-MODIFIED:20240326T140026Z
UID:7118-1711540800-1711544400@bcut.ro
SUMMARY:JOIA MUZICALĂRecital de flaut
DESCRIPTION:Susținut de studenți și cadre didactice de la Facultatea de Muzică și Teatru
URL:https://bcut.ro/event/joia-muzicalarecital-de-flaut-2/
LOCATION:Biblioteca Centrală Universitară „Eugen Todoran” din Timişoara\, Bd. Vasile Pârvan\, nr. 4A\, Timișoara\, Timiș\, 300223\, România
CATEGORIES:Evenimente BCUT Martie 2024
END:VEVENT
BEGIN:VEVENT
DTSTART;TZID=Europe/Moscow:20240328T120000
DTEND;TZID=Europe/Moscow:20240328T130000
DTSTAMP:20260426T014151
CREATED:20240229T163058Z
LAST-MODIFIED:20240326T140144Z
UID:7078-1711627200-1711630800@bcut.ro
SUMMARY:JOIA MUZICALĂRecital de flaut și harpă
DESCRIPTION:Susținut de studenți și cadre didactice de la Facultatea de Muzică și Teatru
URL:https://bcut.ro/event/joia-muzicalarecital-de-flaut-si-harpa/
LOCATION:Biblioteca Centrală Universitară „Eugen Todoran” din Timişoara\, Bd. Vasile Pârvan\, nr. 4A\, Timișoara\, Timiș\, 300223\, România
CATEGORIES:Evenimente BCUT Martie 2024
ORGANIZER;CN="Biblioteca Central%C4%83 Universitar%C4%83 %E2%80%9EEugen Todoran%E2%80%9D din Timi%C8%99oara":MAILTO:contact [at] bcut.ro
END:VEVENT
BEGIN:VEVENT
DTSTART;TZID=Europe/Moscow:20240328T140000
DTEND;TZID=Europe/Moscow:20240328T150000
DTSTAMP:20260426T014151
CREATED:20240229T163218Z
LAST-MODIFIED:20240326T135939Z
UID:7080-1711634400-1711638000@bcut.ro
SUMMARY:WORKSHOPPrezentare baze de date CEEOL
DESCRIPTION:Prezintă: bibl. Maria Cristea \nSala de seminar a BCUT
URL:https://bcut.ro/event/workshopprezentare-baze-de-date-ceeol/
LOCATION:Biblioteca Centrală Universitară „Eugen Todoran” din Timişoara\, Bd. Vasile Pârvan\, nr. 4A\, Timișoara\, Timiș\, 300223\, România
CATEGORIES:Evenimente BCUT Martie 2024
ORGANIZER;CN="Biblioteca Central%C4%83 Universitar%C4%83 %E2%80%9EEugen Todoran%E2%80%9D din Timi%C8%99oara":MAILTO:contact [at] bcut.ro
END:VEVENT
END:VCALENDAR