BEGIN:VCALENDAR
VERSION:2.0
PRODID:-//Biblioteca Centrală Universitară „Eugen Todoran” din Timișoara - ECPv6.15.20//NONSGML v1.0//EN
CALSCALE:GREGORIAN
METHOD:PUBLISH
X-ORIGINAL-URL:https://bcut.ro
X-WR-CALDESC:Evenimente pentru Biblioteca Centrală Universitară „Eugen Todoran” din Timișoara
REFRESH-INTERVAL;VALUE=DURATION:PT1H
X-Robots-Tag:noindex
X-PUBLISHED-TTL:PT1H
BEGIN:VTIMEZONE
TZID:Europe/Moscow
BEGIN:STANDARD
TZOFFSETFROM:+0300
TZOFFSETTO:+0300
TZNAME:MSK
DTSTART:20240101T000000
END:STANDARD
END:VTIMEZONE
BEGIN:VEVENT
DTSTART;TZID=Europe/Moscow:20251103T163000
DTEND;TZID=Europe/Moscow:20251103T173000
DTSTAMP:20260419T160308
CREATED:20251029T133151Z
LAST-MODIFIED:20251029T135846Z
UID:9673-1762187400-1762191000@bcut.ro
SUMMARY:SAMOVARUL LITERARÎntâlnire cu scriitorii din Banatul MontanInvitați: Vicu Cojocaru\, Nicolae Preda\, Marcu Mihail Deleanu\, Costel Popa\, Ioan Jorz\, Petru HamatModerator: dr. Daniel Luca
DESCRIPTION:
URL:https://bcut.ro/event/samovarul-literarintalnire-cu-scriitorii-din-banatul-montaninvitati-vicu-cojocaru-nicolae-preda-marcu-mihail-deleanu-costel-popa-ioan-jorz-petru-hamatmoderator-dr-daniel-luca/
LOCATION:Biblioteca Centrală Universitară „Eugen Todoran” din Timişoara\, Bd. Vasile Pârvan\, nr. 4A\, Timișoara\, Timiș\, 300223\, România
CATEGORIES:Evenimente BCUT Noiembrie 2025
ORGANIZER;CN="Biblioteca Central%C4%83 Universitar%C4%83 %E2%80%9EEugen Todoran%E2%80%9D din Timi%C8%99oara":MAILTO:contact [at] bcut.ro
END:VEVENT
BEGIN:VEVENT
DTSTART;TZID=Europe/Moscow:20251104T180000
DTEND;TZID=Europe/Moscow:20251104T190000
DTSTAMP:20260419T160308
CREATED:20251029T083350Z
LAST-MODIFIED:20251029T135840Z
UID:9666-1762279200-1762282800@bcut.ro
SUMMARY:CARTEA DE MARȚI...A Vague Anxiety: Modern Japanese Literature and Its CrisesAutor: George T. SiposInvitat: lect. dr. Dana CrăciunModerator: Marilena Tudor
DESCRIPTION:
URL:https://bcut.ro/event/cartea-de-marti-4noi2025/
LOCATION:Aula Bibliotecii Centrale Universitare „Eugen Todoran” din Timişoara\, Bd. Vasile Pârvan\, nr. 4A\, Timișoara\, Timiș\, 300223\, Romania
CATEGORIES:Evenimente BCUT Noiembrie 2025
ORGANIZER;CN="Biblioteca Central%C4%83 Universitar%C4%83 %E2%80%9EEugen Todoran%E2%80%9D din Timi%C8%99oara":MAILTO:contact [at] bcut.ro
END:VEVENT
BEGIN:VEVENT
DTSTART;TZID=Europe/Moscow:20251106T120000
DTEND;TZID=Europe/Moscow:20251106T130000
DTSTAMP:20260419T160308
CREATED:20251029T135052Z
LAST-MODIFIED:20251103T160215Z
UID:9678-1762430400-1762434000@bcut.ro
SUMMARY:JOIA MUZICALĂRecital de pian și muzică de camerăSusținut de studenți și cadre didactice de la Facultatea de Muzică și Teatru
DESCRIPTION:
URL:https://bcut.ro/event/joia-muzicalarecital-instrumentalsustinut-de-studenti-si-cadre-didactice-de-la-facultatea-de-muzica-si-teatru/
LOCATION:Aula Bibliotecii Centrale Universitare „Eugen Todoran” din Timişoara\, Bd. Vasile Pârvan\, nr. 4A\, Timișoara\, Timiș\, 300223\, Romania
CATEGORIES:Evenimente BCUT Noiembrie 2025
ORGANIZER;CN="Biblioteca Central%C4%83 Universitar%C4%83 %E2%80%9EEugen Todoran%E2%80%9D din Timi%C8%99oara":MAILTO:contact [at] bcut.ro
END:VEVENT
BEGIN:VEVENT
DTSTART;TZID=Europe/Moscow:20251110T113000
DTEND;TZID=Europe/Moscow:20251110T123000
DTSTAMP:20260419T160308
CREATED:20251029T135615Z
LAST-MODIFIED:20251106T153132Z
UID:9688-1762774200-1762777800@bcut.ro
SUMMARY:EXPOZIȚIE ȘI PREZENTARE DE CARTEO nouă ediție a volumului Povestiri cu strada depozitului și expoziție de cărți semnate de Daniel VighiInvitați speciali: Ion Bogdan Lefter\, Viorel Marineasa\, Eugen Bunaru\, Vasile DoceaModerator: Cristian Cosma
DESCRIPTION:Eveniment în cadrul proiectului Cartierul Literelor\, realizat de editura Casa de pariuri literare și co-finanțat de AFCN
URL:https://bcut.ro/event/expozitie-si-prezentare-de-carteo-noua-editie-a-volumului-povestiri-cu-strada-depozitului-si-expozitie-de-carti-semnate-de-daniel-vighiinvitati-speciali-ion-bogdan-lefter-viorel-marineasa-eugen-bun/
LOCATION:Biblioteca Centrală Universitară „Eugen Todoran” din Timişoara\, Bd. Vasile Pârvan\, nr. 4A\, Timișoara\, Timiș\, 300223\, România
CATEGORIES:Evenimente BCUT Noiembrie 2025
ORGANIZER;CN="Biblioteca Central%C4%83 Universitar%C4%83 %E2%80%9EEugen Todoran%E2%80%9D din Timi%C8%99oara":MAILTO:contact [at] bcut.ro
END:VEVENT
BEGIN:VEVENT
DTSTART;TZID=Europe/Moscow:20251110T161500
DTEND;TZID=Europe/Moscow:20251110T171500
DTSTAMP:20260419T160309
CREATED:20251029T135227Z
LAST-MODIFIED:20251105T091401Z
UID:9683-1762791300-1762794900@bcut.ro
SUMMARY:EXPOZIȚIELiteratura Americii Latine în traducerile românești din perioada comunistă: o incursiune cultural-politicăPrezintă: conf. univ. dr. Ilinca ȚăranuModerator: drd. Darius Dragomir
DESCRIPTION:
URL:https://bcut.ro/event/expozitieliteratura-americii-latine-in-traducerile-romanesti-din-perioada-comunista-o-incursiune-cultural-politicaprezinta-conf-univ-dr-ilinca-taranumoderator-drd-darius-dragomir/
LOCATION:Biblioteca Centrală Universitară „Eugen Todoran” din Timişoara\, Bd. Vasile Pârvan\, nr. 4A\, Timișoara\, Timiș\, 300223\, România
CATEGORIES:Evenimente BCUT Noiembrie 2025
ORGANIZER;CN="Biblioteca Central%C4%83 Universitar%C4%83 %E2%80%9EEugen Todoran%E2%80%9D din Timi%C8%99oara":MAILTO:contact [at] bcut.ro
END:VEVENT
BEGIN:VEVENT
DTSTART;TZID=Europe/Moscow:20251113T120000
DTEND;TZID=Europe/Moscow:20251113T130000
DTSTAMP:20260419T160309
CREATED:20251029T135716Z
LAST-MODIFIED:20251111T140801Z
UID:9690-1763035200-1763038800@bcut.ro
SUMMARY:JOIA MUZICALĂ Recital vocalConsonanțe lirice de toamnă...Susținut de studenți și cadre didactice de la Facultatea de Muzică și Teatru
DESCRIPTION:
URL:https://bcut.ro/event/joia-muzicala-recital-vocalsustinut-de-studenti-si-cadre-didactice-de-la-facultatea-de-muzica-si-teatru/
LOCATION:Aula Bibliotecii Centrale Universitare „Eugen Todoran” din Timişoara\, Bd. Vasile Pârvan\, nr. 4A\, Timișoara\, Timiș\, 300223\, Romania
CATEGORIES:Evenimente BCUT Noiembrie 2025
ORGANIZER;CN="Biblioteca Central%C4%83 Universitar%C4%83 %E2%80%9EEugen Todoran%E2%80%9D din Timi%C8%99oara":MAILTO:contact [at] bcut.ro
END:VEVENT
BEGIN:VEVENT
DTSTART;TZID=Europe/Moscow:20251120T120000
DTEND;TZID=Europe/Moscow:20251120T130000
DTSTAMP:20260419T160309
CREATED:20251029T135934Z
LAST-MODIFIED:20251117T072458Z
UID:9699-1763640000-1763643600@bcut.ro
SUMMARY:JOIA MUZICALĂRecital de vioarăSusținut de studenți și cadre didactice de la Facultatea de Muzică și Teatru
DESCRIPTION:
URL:https://bcut.ro/event/joia-muzicalarecital-de-vioarasustinut-de-studenti-si-cadre-didactice-de-la-facultatea-de-muzica-si-teatru/
LOCATION:Aula Bibliotecii Centrale Universitare „Eugen Todoran” din Timişoara\, Bd. Vasile Pârvan\, nr. 4A\, Timișoara\, Timiș\, 300223\, Romania
CATEGORIES:Evenimente BCUT Noiembrie 2025
ORGANIZER;CN="Biblioteca Central%C4%83 Universitar%C4%83 %E2%80%9EEugen Todoran%E2%80%9D din Timi%C8%99oara":MAILTO:contact [at] bcut.ro
END:VEVENT
BEGIN:VEVENT
DTSTART;TZID=Europe/Moscow:20251121T170000
DTEND;TZID=Europe/Moscow:20251121T180000
DTSTAMP:20260419T160309
CREATED:20251029T140124Z
LAST-MODIFIED:20251114T114734Z
UID:9701-1763744400-1763748000@bcut.ro
SUMMARY:1989 - ÎNTRE MEMORIE ȘI JUSTIȚIEInvitați speciali: Anneli Ute Gabanyi și Adrian CioroianuInvitați: gen. rez. Dan Voinea\, gen. rez. Romeo Bălan\, gen. rez. Gheorghe Coșneanu\, gen. rez. Cătălin Ranco PițuModerator: Vasile Docea și Gino Rado
DESCRIPTION:Eveniment pe bază de invitație
URL:https://bcut.ro/event/1989-intre-memorie-si-justitieinvitati-speciali-anneli-ute-gabanyi-si-adrian-cioroianuinvitati-gen-rez-dan-voinea-gen-rez-romeo-balan-gen-rez-gheorghe-cosneanu-gen-r/
LOCATION:Biblioteca Centrală Universitară „Eugen Todoran” din Timişoara\, Bd. Vasile Pârvan\, nr. 4A\, Timișoara\, Timiș\, 300223\, România
CATEGORIES:Evenimente BCUT Noiembrie 2025
ORGANIZER;CN="Biblioteca Central%C4%83 Universitar%C4%83 %E2%80%9EEugen Todoran%E2%80%9D din Timi%C8%99oara":MAILTO:contact [at] bcut.ro
END:VEVENT
BEGIN:VEVENT
DTSTART;TZID=Europe/Moscow:20251125T180000
DTEND;TZID=Europe/Moscow:20251125T190000
DTSTAMP:20260419T160309
CREATED:20251029T140317Z
LAST-MODIFIED:20251124T085844Z
UID:9703-1764093600-1764097200@bcut.ro
SUMMARY:CERCETĂRI BIOGRAFICECorespondența familiei Moldovan - Petran din Arad. Dragoste și război în context istoric și geograficPrezintă: istoric dr. Thomas Remus MochnacsModerator: conf. univ. dr. Mihai Panu
DESCRIPTION:Comunicările științifice ale Centrului de Cercetări Bio-bibliografice al Bibliotecii și ale Centrului de Cercetări Biografice Avansate al Universității de Vest din Timișoara
URL:https://bcut.ro/event/cercetari-biograficecorespondenta-familiei-moldovan-petran-din-arad-dragoste-si-razboi-in-context-istoric-si-geograficprezinta-istoric-dr-thomas-remus-mochnacsoderator-conf-univ-dr-mihai-panu/
LOCATION:Biblioteca Centrală Universitară „Eugen Todoran” din Timişoara\, Bd. Vasile Pârvan\, nr. 4A\, Timișoara\, Timiș\, 300223\, România
CATEGORIES:Evenimente BCUT Noiembrie 2025
ORGANIZER;CN="Biblioteca Central%C4%83 Universitar%C4%83 %E2%80%9EEugen Todoran%E2%80%9D din Timi%C8%99oara":MAILTO:contact [at] bcut.ro
END:VEVENT
BEGIN:VEVENT
DTSTART;TZID=Europe/Moscow:20251127T120000
DTEND;TZID=Europe/Moscow:20251127T130000
DTSTAMP:20260419T160309
CREATED:20251029T140409Z
LAST-MODIFIED:20251124T085444Z
UID:9706-1764244800-1764248400@bcut.ro
SUMMARY:JOIA MUZICALĂRecital de pianSusținut de studenți și cadre didactice de la Facultatea de Muzică și Teatru
DESCRIPTION:
URL:https://bcut.ro/event/joia-muzicalarecital-de-piansustinut-de-studenti-si-cadre-didactice-de-la-facultatea-de-muzica-si-teatru-copy2/
LOCATION:Aula Bibliotecii Centrale Universitare „Eugen Todoran” din Timişoara\, Bd. Vasile Pârvan\, nr. 4A\, Timișoara\, Timiș\, 300223\, Romania
CATEGORIES:Evenimente BCUT Noiembrie 2025
ORGANIZER;CN="Biblioteca Central%C4%83 Universitar%C4%83 %E2%80%9EEugen Todoran%E2%80%9D din Timi%C8%99oara":MAILTO:contact [at] bcut.ro
END:VEVENT
BEGIN:VEVENT
DTSTART;TZID=Europe/Moscow:20251127T140000
DTEND;TZID=Europe/Moscow:20251127T150000
DTSTAMP:20260419T160309
CREATED:20251029T140806Z
LAST-MODIFIED:20251126T085553Z
UID:9709-1764252000-1764255600@bcut.ro
SUMMARY:WORKSHOPDespre bibliografii: prezentare generalăPrezintă: dir. adj. Manuela ZănescuSinteza lunii noiembrie: B.C.U.T. și U.V.T.Prezintă: dr. Maria Cristea
DESCRIPTION:
URL:https://bcut.ro/event/workshopdespre-bibliografii-prezentare-generalaprezinta-dir-adj-manuela-zanescusinteza-lunii-noiembrie-b-c-u-t-si-u-v-t-prezinta-dr-maria-cristea/
LOCATION:Sala de seminar\, Et. 4\, Biblioteca Centrală Universitară „Eugen Todoran” din Timişoara\, Bd. Vasile Pârvan\, nr. 4A\, Timișoara\, Timiș\, 300223\, Romania
CATEGORIES:Evenimente BCUT Noiembrie 2025
ORGANIZER;CN="Biblioteca Central%C4%83 Universitar%C4%83 %E2%80%9EEugen Todoran%E2%80%9D din Timi%C8%99oara":MAILTO:contact [at] bcut.ro
END:VEVENT
END:VCALENDAR