BEGIN:VCALENDAR
VERSION:2.0
PRODID:-//Biblioteca Centrală Universitară „Eugen Todoran” din Timișoara - ECPv6.15.20//NONSGML v1.0//EN
CALSCALE:GREGORIAN
METHOD:PUBLISH
X-WR-CALNAME:Biblioteca Centrală Universitară „Eugen Todoran” din Timișoara
X-ORIGINAL-URL:https://bcut.ro
X-WR-CALDESC:Evenimente pentru Biblioteca Centrală Universitară „Eugen Todoran” din Timișoara
REFRESH-INTERVAL;VALUE=DURATION:PT1H
X-Robots-Tag:noindex
X-PUBLISHED-TTL:PT1H
BEGIN:VTIMEZONE
TZID:Europe/Moscow
BEGIN:STANDARD
TZOFFSETFROM:+0300
TZOFFSETTO:+0300
TZNAME:MSK
DTSTART:20240101T000000
END:STANDARD
END:VTIMEZONE
BEGIN:VEVENT
DTSTART;TZID=Europe/Moscow:20251103T163000
DTEND;TZID=Europe/Moscow:20251103T173000
DTSTAMP:20260419T173950
CREATED:20251029T133151Z
LAST-MODIFIED:20251029T135846Z
UID:9673-1762187400-1762191000@bcut.ro
SUMMARY:SAMOVARUL LITERARÎntâlnire cu scriitorii din Banatul MontanInvitați: Vicu Cojocaru\, Nicolae Preda\, Marcu Mihail Deleanu\, Costel Popa\, Ioan Jorz\, Petru HamatModerator: dr. Daniel Luca
DESCRIPTION:
URL:https://bcut.ro/event/samovarul-literarintalnire-cu-scriitorii-din-banatul-montaninvitati-vicu-cojocaru-nicolae-preda-marcu-mihail-deleanu-costel-popa-ioan-jorz-petru-hamatmoderator-dr-daniel-luca/
LOCATION:Biblioteca Centrală Universitară „Eugen Todoran” din Timişoara\, Bd. Vasile Pârvan\, nr. 4A\, Timișoara\, Timiș\, 300223\, România
CATEGORIES:Evenimente BCUT Noiembrie 2025
ORGANIZER;CN="Biblioteca Central%C4%83 Universitar%C4%83 %E2%80%9EEugen Todoran%E2%80%9D din Timi%C8%99oara":MAILTO:contact [at] bcut.ro
END:VEVENT
END:VCALENDAR