BEGIN:VCALENDAR
VERSION:2.0
PRODID:-//Biblioteca Centrală Universitară „Eugen Todoran” din Timișoara - ECPv6.15.20//NONSGML v1.0//EN
CALSCALE:GREGORIAN
METHOD:PUBLISH
X-WR-CALNAME:Biblioteca Centrală Universitară „Eugen Todoran” din Timișoara
X-ORIGINAL-URL:https://bcut.ro
X-WR-CALDESC:Evenimente pentru Biblioteca Centrală Universitară „Eugen Todoran” din Timișoara
REFRESH-INTERVAL;VALUE=DURATION:PT1H
X-Robots-Tag:noindex
X-PUBLISHED-TTL:PT1H
BEGIN:VTIMEZONE
TZID:Europe/Moscow
BEGIN:STANDARD
TZOFFSETFROM:+0300
TZOFFSETTO:+0300
TZNAME:MSK
DTSTART:20240101T000000
END:STANDARD
END:VTIMEZONE
BEGIN:VEVENT
DTSTART;TZID=Europe/Moscow:20251104T180000
DTEND;TZID=Europe/Moscow:20251104T190000
DTSTAMP:20260419T173141
CREATED:20251029T083350Z
LAST-MODIFIED:20251029T135840Z
UID:9666-1762279200-1762282800@bcut.ro
SUMMARY:CARTEA DE MARȚI...A Vague Anxiety: Modern Japanese Literature and Its CrisesAutor: George T. SiposInvitat: lect. dr. Dana CrăciunModerator: Marilena Tudor
DESCRIPTION:
URL:https://bcut.ro/event/cartea-de-marti-4noi2025/
LOCATION:Aula Bibliotecii Centrale Universitare „Eugen Todoran” din Timişoara\, Bd. Vasile Pârvan\, nr. 4A\, Timișoara\, Timiș\, 300223\, Romania
CATEGORIES:Evenimente BCUT Noiembrie 2025
ORGANIZER;CN="Biblioteca Central%C4%83 Universitar%C4%83 %E2%80%9EEugen Todoran%E2%80%9D din Timi%C8%99oara":MAILTO:contact [at] bcut.ro
END:VEVENT
END:VCALENDAR