BEGIN:VCALENDAR
VERSION:2.0
PRODID:-//Biblioteca Centrală Universitară „Eugen Todoran” din Timișoara - ECPv6.15.20//NONSGML v1.0//EN
CALSCALE:GREGORIAN
METHOD:PUBLISH
X-WR-CALNAME:Biblioteca Centrală Universitară „Eugen Todoran” din Timișoara
X-ORIGINAL-URL:https://bcut.ro
X-WR-CALDESC:Evenimente pentru Biblioteca Centrală Universitară „Eugen Todoran” din Timișoara
REFRESH-INTERVAL;VALUE=DURATION:PT1H
X-Robots-Tag:noindex
X-PUBLISHED-TTL:PT1H
BEGIN:VTIMEZONE
TZID:Europe/Moscow
BEGIN:STANDARD
TZOFFSETFROM:+0300
TZOFFSETTO:+0300
TZNAME:MSK
DTSTART:20240101T000000
END:STANDARD
END:VTIMEZONE
BEGIN:VEVENT
DTSTART;TZID=Europe/Moscow:20251110T113000
DTEND;TZID=Europe/Moscow:20251110T123000
DTSTAMP:20260419T173312
CREATED:20251029T135615Z
LAST-MODIFIED:20251106T153132Z
UID:9688-1762774200-1762777800@bcut.ro
SUMMARY:EXPOZIȚIE ȘI PREZENTARE DE CARTEO nouă ediție a volumului Povestiri cu strada depozitului și expoziție de cărți semnate de Daniel VighiInvitați speciali: Ion Bogdan Lefter\, Viorel Marineasa\, Eugen Bunaru\, Vasile DoceaModerator: Cristian Cosma
DESCRIPTION:Eveniment în cadrul proiectului Cartierul Literelor\, realizat de editura Casa de pariuri literare și co-finanțat de AFCN
URL:https://bcut.ro/event/expozitie-si-prezentare-de-carteo-noua-editie-a-volumului-povestiri-cu-strada-depozitului-si-expozitie-de-carti-semnate-de-daniel-vighiinvitati-speciali-ion-bogdan-lefter-viorel-marineasa-eugen-bun/
LOCATION:Biblioteca Centrală Universitară „Eugen Todoran” din Timişoara\, Bd. Vasile Pârvan\, nr. 4A\, Timișoara\, Timiș\, 300223\, România
CATEGORIES:Evenimente BCUT Noiembrie 2025
ORGANIZER;CN="Biblioteca Central%C4%83 Universitar%C4%83 %E2%80%9EEugen Todoran%E2%80%9D din Timi%C8%99oara":MAILTO:contact [at] bcut.ro
END:VEVENT
BEGIN:VEVENT
DTSTART;TZID=Europe/Moscow:20251110T161500
DTEND;TZID=Europe/Moscow:20251110T171500
DTSTAMP:20260419T173312
CREATED:20251029T135227Z
LAST-MODIFIED:20251105T091401Z
UID:9683-1762791300-1762794900@bcut.ro
SUMMARY:EXPOZIȚIELiteratura Americii Latine în traducerile românești din perioada comunistă: o incursiune cultural-politicăPrezintă: conf. univ. dr. Ilinca ȚăranuModerator: drd. Darius Dragomir
DESCRIPTION:
URL:https://bcut.ro/event/expozitieliteratura-americii-latine-in-traducerile-romanesti-din-perioada-comunista-o-incursiune-cultural-politicaprezinta-conf-univ-dr-ilinca-taranumoderator-drd-darius-dragomir/
LOCATION:Biblioteca Centrală Universitară „Eugen Todoran” din Timişoara\, Bd. Vasile Pârvan\, nr. 4A\, Timișoara\, Timiș\, 300223\, România
CATEGORIES:Evenimente BCUT Noiembrie 2025
ORGANIZER;CN="Biblioteca Central%C4%83 Universitar%C4%83 %E2%80%9EEugen Todoran%E2%80%9D din Timi%C8%99oara":MAILTO:contact [at] bcut.ro
END:VEVENT
END:VCALENDAR