BEGIN:VCALENDAR
VERSION:2.0
PRODID:-//Biblioteca Centrală Universitară „Eugen Todoran” din Timișoara - ECPv6.15.20//NONSGML v1.0//EN
CALSCALE:GREGORIAN
METHOD:PUBLISH
X-WR-CALNAME:Biblioteca Centrală Universitară „Eugen Todoran” din Timișoara
X-ORIGINAL-URL:https://bcut.ro
X-WR-CALDESC:Evenimente pentru Biblioteca Centrală Universitară „Eugen Todoran” din Timișoara
REFRESH-INTERVAL;VALUE=DURATION:PT1H
X-Robots-Tag:noindex
X-PUBLISHED-TTL:PT1H
BEGIN:VTIMEZONE
TZID:Europe/Moscow
BEGIN:STANDARD
TZOFFSETFROM:+0300
TZOFFSETTO:+0300
TZNAME:MSK
DTSTART:20240101T000000
END:STANDARD
END:VTIMEZONE
BEGIN:VEVENT
DTSTART;TZID=Europe/Moscow:20251121T170000
DTEND;TZID=Europe/Moscow:20251121T180000
DTSTAMP:20260419T173213
CREATED:20251029T140124Z
LAST-MODIFIED:20251114T114734Z
UID:9701-1763744400-1763748000@bcut.ro
SUMMARY:1989 - ÎNTRE MEMORIE ȘI JUSTIȚIEInvitați speciali: Anneli Ute Gabanyi și Adrian CioroianuInvitați: gen. rez. Dan Voinea\, gen. rez. Romeo Bălan\, gen. rez. Gheorghe Coșneanu\, gen. rez. Cătălin Ranco PițuModerator: Vasile Docea și Gino Rado
DESCRIPTION:Eveniment pe bază de invitație
URL:https://bcut.ro/event/1989-intre-memorie-si-justitieinvitati-speciali-anneli-ute-gabanyi-si-adrian-cioroianuinvitati-gen-rez-dan-voinea-gen-rez-romeo-balan-gen-rez-gheorghe-cosneanu-gen-r/
LOCATION:Biblioteca Centrală Universitară „Eugen Todoran” din Timişoara\, Bd. Vasile Pârvan\, nr. 4A\, Timișoara\, Timiș\, 300223\, România
CATEGORIES:Evenimente BCUT Noiembrie 2025
ORGANIZER;CN="Biblioteca Central%C4%83 Universitar%C4%83 %E2%80%9EEugen Todoran%E2%80%9D din Timi%C8%99oara":MAILTO:contact [at] bcut.ro
END:VEVENT
END:VCALENDAR